BEGIN:VCALENDAR
VERSION:2.0
PRODID:-//Lifecycle - ECPv6.15.0.1//NONSGML v1.0//EN
CALSCALE:GREGORIAN
METHOD:PUBLISH
X-WR-CALNAME:Lifecycle
X-ORIGINAL-URL:https://timing.lifecycle.co.bw
X-WR-CALDESC:Events for Lifecycle
REFRESH-INTERVAL;VALUE=DURATION:PT1H
X-Robots-Tag:noindex
X-PUBLISHED-TTL:PT1H
BEGIN:VTIMEZONE
TZID:Africa/Gaborone
BEGIN:STANDARD
TZOFFSETFROM:+0200
TZOFFSETTO:+0200
TZNAME:CAT
DTSTART:20220101T000000
END:STANDARD
END:VTIMEZONE
BEGIN:VEVENT
DTSTART;VALUE=DATE:20221105
DTEND;VALUE=DATE:20221106
DTSTAMP:20260424T152053
CREATED:20220502T121457Z
LAST-MODIFIED:20221103T185929Z
UID:10000147-1667606400-1667692799@timing.lifecycle.co.bw
SUMMARY:The SPAR Community Challenge - Race 8
DESCRIPTION:Saturday 5th November\, Acacia Mall\, Phakalane
URL:https://timing.lifecycle.co.bw/event/the-spar-community-challenge-race-8/
LOCATION:Acacia SPAR Phakalane\, Acacia\, Phakalane\, Gaborone\, Botswana
CATEGORIES:Individual,Race,SPAR Community Challenge
ATTACH;FMTTYPE=image/jpeg:https://timing.lifecycle.co.bw/wp-content/uploads/2022/04/Spar-Charity-Challenge-Race-Series-with-Price.jpg
ORGANIZER;CN="Lifecycle Events & Timing Pty Ltd":MAILTO:timing@lifecycle.co.bw
END:VEVENT
END:VCALENDAR