BEGIN:VCALENDAR
VERSION:2.0
PRODID:-//Lifecycle - ECPv6.15.0.1//NONSGML v1.0//EN
CALSCALE:GREGORIAN
METHOD:PUBLISH
X-ORIGINAL-URL:https://timing.lifecycle.co.bw
X-WR-CALDESC:Events for Lifecycle
REFRESH-INTERVAL;VALUE=DURATION:PT1H
X-Robots-Tag:noindex
X-PUBLISHED-TTL:PT1H
BEGIN:VTIMEZONE
TZID:Africa/Gaborone
BEGIN:STANDARD
TZOFFSETFROM:+0200
TZOFFSETTO:+0200
TZNAME:CAT
DTSTART:20220101T000000
END:STANDARD
END:VTIMEZONE
BEGIN:VEVENT
DTSTART;VALUE=DATE:20220618
DTEND;VALUE=DATE:20220619
DTSTAMP:20260425T020044
CREATED:20220502T111524Z
LAST-MODIFIED:20221011T205712Z
UID:10000140-1655510400-1655596799@timing.lifecycle.co.bw
SUMMARY:The SPAR Community Challenge - Race 3\, Ruretse (O'Neill Property)
DESCRIPTION:Saturday 12th November\, 2022
URL:https://timing.lifecycle.co.bw/event/the-spar-community-challenge-race-3/
LOCATION:CBD\, 3 Chiefs Monument\, Gaborone\, Botswana
CATEGORIES:Individual,Race,SPAR Community Challenge
ATTACH;FMTTYPE=image/jpeg:https://timing.lifecycle.co.bw/wp-content/uploads/2022/04/Spar-Charity-Challenge-Race-Series-with-Price.jpg
ORGANIZER;CN="Lifecycle Events & Timing Pty Ltd":MAILTO:timing@lifecycle.co.bw
END:VEVENT
END:VCALENDAR