BEGIN:VCALENDAR
VERSION:2.0
PRODID:-//Lifecycle - ECPv6.15.0.1//NONSGML v1.0//EN
CALSCALE:GREGORIAN
METHOD:PUBLISH
X-WR-CALNAME:Lifecycle
X-ORIGINAL-URL:https://timing.lifecycle.co.bw
X-WR-CALDESC:Events for Lifecycle
REFRESH-INTERVAL;VALUE=DURATION:PT1H
X-Robots-Tag:noindex
X-PUBLISHED-TTL:PT1H
BEGIN:VTIMEZONE
TZID:Africa/Gaborone
BEGIN:STANDARD
TZOFFSETFROM:+0200
TZOFFSETTO:+0200
TZNAME:CAT
DTSTART:20220101T000000
END:STANDARD
END:VTIMEZONE
BEGIN:VEVENT
DTSTART;VALUE=DATE:20221105
DTEND;VALUE=DATE:20221106
DTSTAMP:20260424T104720
CREATED:20220502T121457Z
LAST-MODIFIED:20221103T185929Z
UID:10000147-1667606400-1667692799@timing.lifecycle.co.bw
SUMMARY:The SPAR Community Challenge - Race 8
DESCRIPTION:Saturday 5th November\, Acacia Mall\, Phakalane
URL:https://timing.lifecycle.co.bw/event/the-spar-community-challenge-race-8/
LOCATION:Acacia SPAR Phakalane\, Acacia\, Phakalane\, Gaborone\, Botswana
CATEGORIES:Individual,Race,SPAR Community Challenge
ATTACH;FMTTYPE=image/jpeg:https://timing.lifecycle.co.bw/wp-content/uploads/2022/04/Spar-Charity-Challenge-Race-Series-with-Price.jpg
ORGANIZER;CN="Lifecycle Events & Timing Pty Ltd":MAILTO:timing@lifecycle.co.bw
END:VEVENT
BEGIN:VEVENT
DTSTART;VALUE=DATE:20221029
DTEND;VALUE=DATE:20221030
DTSTAMP:20260424T104720
CREATED:20221012T210003Z
LAST-MODIFIED:20221028T135451Z
UID:10000131-1667001600-1667087999@timing.lifecycle.co.bw
SUMMARY:Cycle4Life MTB Club Race @ Palm Valley (along Odi-Matebeleng Road)
DESCRIPTION:  \n \n  \n29th October\, 2022
URL:https://timing.lifecycle.co.bw/event/cycle4life-mtb-club-race-palm-valley-along-odi-matebeleng-road/
LOCATION:Palm Valley\, Gaborone (along Odi-Matebeleng Road)\, Palm Valley\, Gaborone\, Botswana
ORGANIZER;CN="Lifecycle Events & Timing Pty Ltd":MAILTO:timing@lifecycle.co.bw
END:VEVENT
BEGIN:VEVENT
DTSTART;VALUE=DATE:20221022
DTEND;VALUE=DATE:20221023
DTSTAMP:20260424T104720
CREATED:20220502T121242Z
LAST-MODIFIED:20221011T210351Z
UID:10000146-1666396800-1666483199@timing.lifecycle.co.bw
SUMMARY:The SPAR Community Challenge - Race 7
DESCRIPTION:Saturday 22nd October
URL:https://timing.lifecycle.co.bw/event/the-spar-community-challenge-race-7/
LOCATION:Airport Junction (Opposite KFC)\, Airport Junction\, Gaborone\, Botswana
CATEGORIES:Individual,Race,SPAR Community Challenge
ATTACH;FMTTYPE=image/jpeg:https://timing.lifecycle.co.bw/wp-content/uploads/2022/04/Spar-Charity-Challenge-Race-Series-with-Price.jpg
ORGANIZER;CN="Lifecycle Events & Timing Pty Ltd":MAILTO:timing@lifecycle.co.bw
END:VEVENT
BEGIN:VEVENT
DTSTART;TZID=Africa/Gaborone:20221016T060000
DTEND;TZID=Africa/Gaborone:20221016T140000
DTSTAMP:20260424T104720
CREATED:20220830T212534Z
LAST-MODIFIED:20221013T181326Z
UID:10000117-1665900000-1665928800@timing.lifecycle.co.bw
SUMMARY:Khoemacau Copper Mining GM's Lake Ngami Cycle Classic
DESCRIPTION:
URL:https://timing.lifecycle.co.bw/event/khoemacau-copper-mining-gms-lake-ngami-cycle-classic/
LOCATION:Toteng Village (North West District) – 70km south of Maun on A3 towards Gantsi\, A3 Highway (Maun to Gantsi)\, Toteng\, Botswana
ORGANIZER;CN="Lifecycle Events & Timing Pty Ltd":MAILTO:timing@lifecycle.co.bw
END:VEVENT
BEGIN:VEVENT
DTSTART;VALUE=DATE:20221008
DTEND;VALUE=DATE:20221009
DTSTAMP:20260424T104720
CREATED:20220502T120927Z
LAST-MODIFIED:20220921T121327Z
UID:10000145-1665187200-1665273599@timing.lifecycle.co.bw
SUMMARY:The SPAR Community Challenge - Race 6
DESCRIPTION:Saturday 8th October
URL:https://timing.lifecycle.co.bw/event/the-spar-community-challenge-race-6/
LOCATION:Kgale SPAR (next to Game City Circle/New Overpass)\, Kgale SPAR\, Gaborone\, Botswana
CATEGORIES:Individual,Race,SPAR Community Challenge
ATTACH;FMTTYPE=image/jpeg:https://timing.lifecycle.co.bw/wp-content/uploads/2022/04/Spar-Charity-Challenge-Race-Series-with-Price.jpg
ORGANIZER;CN="Lifecycle Events & Timing Pty Ltd":MAILTO:timing@lifecycle.co.bw
END:VEVENT
BEGIN:VEVENT
DTSTART;TZID=Africa/Gaborone:20220828T063000
DTEND;TZID=Africa/Gaborone:20220828T130000
DTSTAMP:20260424T104720
CREATED:20220814T180958Z
LAST-MODIFIED:20220825T182004Z
UID:10000116-1661668200-1661691600@timing.lifecycle.co.bw
SUMMARY:Botswana National MTB Championships 2022
DESCRIPTION:Sunday 28th August\, 2022\,at Kgale Hill
URL:https://timing.lifecycle.co.bw/event/botswana-national-mtb-championships-2022/
LOCATION:Kgale Hill\, Kgale Hill\, Gaborone\, Botswana
ORGANIZER;CN="Lifecycle Events & Timing Pty Ltd":MAILTO:timing@lifecycle.co.bw
END:VEVENT
BEGIN:VEVENT
DTSTART;VALUE=DATE:20220827
DTEND;VALUE=DATE:20220828
DTSTAMP:20260424T104720
CREATED:20220502T115423Z
LAST-MODIFIED:20220724T131454Z
UID:10000143-1661558400-1661644799@timing.lifecycle.co.bw
SUMMARY:The SPAR Community Challenge - Race 5
DESCRIPTION:Our next race is at the CBD but this time we will start and finish from the Spar at the new mall – “The Fields Mall”. \nSaturday 27th August
URL:https://timing.lifecycle.co.bw/event/the-spar-community-challenge-race-5/
LOCATION:CBD start & finish at “The Fields Mall” (next to Orange)\, Gaborone\, CBD\, The Fields Mall\, Gaborone\, Botswana
CATEGORIES:Individual,Race,SPAR Community Challenge
ATTACH;FMTTYPE=image/jpeg:https://timing.lifecycle.co.bw/wp-content/uploads/2022/04/Spar-Charity-Challenge-Race-Series-with-Price.jpg
ORGANIZER;CN="Lifecycle Events & Timing Pty Ltd":MAILTO:timing@lifecycle.co.bw
END:VEVENT
BEGIN:VEVENT
DTSTART;TZID=Africa/Gaborone:20220813T063000
DTEND;TZID=Africa/Gaborone:20220813T170000
DTSTAMP:20260424T104720
CREATED:20220706T200004Z
LAST-MODIFIED:20220807T175256Z
UID:10000129-1660372200-1660410000@timing.lifecycle.co.bw
SUMMARY:Dimension Data Route 73 Mountain Bike Challenge 2022
DESCRIPTION:  \nIT’s BACK\, THE 5th EDITION of THE DIMENSION DATA ROUTE 73 MOUNTAIN BIKE CHALLENGE \n  \nSaturday 13th August\, 2022
URL:https://timing.lifecycle.co.bw/event/dimension-data-route-73-mountain-bike-challenge-2022/
LOCATION:Borunndi Private Lodge & Camping Sites\, Tribal Lot 367\, A1 Highway\, Marotobolo\, Rasesa\, Botswana
ORGANIZER;CN="Cycle4Life Club":MAILTO:gmbayi@gmail.com
END:VEVENT
BEGIN:VEVENT
DTSTART;VALUE=DATE:20220730
DTEND;VALUE=DATE:20220731
DTSTAMP:20260424T104720
CREATED:20220630T192612Z
LAST-MODIFIED:20220630T200124Z
UID:10000127-1659139200-1659225599@timing.lifecycle.co.bw
SUMMARY:Paratus Bike Shredders Challenge - Race 2 - Melo Park 30th July 2022
DESCRIPTION:Saturday 30th July\, 2022\, 8:00am
URL:https://timing.lifecycle.co.bw/event/paratus-bike-shredders-challenge-race-2-melo-park-30th-july-2022/
LOCATION:Melo Adventure Park (Mokatsee – Modipane\, 8km from Oodi towards Modipane)\, Oodi to Mokatse Road\, Mokatse\, Gaborone\, Botswana
CATEGORIES:Individual
ATTACH;FMTTYPE=image/jpeg:https://timing.lifecycle.co.bw/wp-content/uploads/2022/06/IMG-20220628-WA0021.jpg
ORGANIZER;CN="Lifecycle Events & Timing Pty Ltd":MAILTO:timing@lifecycle.co.bw
END:VEVENT
BEGIN:VEVENT
DTSTART;VALUE=DATE:20220723
DTEND;VALUE=DATE:20220724
DTSTAMP:20260424T104720
CREATED:20220502T114812Z
LAST-MODIFIED:20220722T143834Z
UID:10000142-1658534400-1658620799@timing.lifecycle.co.bw
SUMMARY:The SPAR Community Challenge - Race 4
DESCRIPTION:THIS TIME AROUND WE WILL BE STARTING AND FINISHING AT GRIP RUNNER (SEBELE MALL\, NEXT TO RHAPSODY’s and ULTIMATE CYCLE BASE) \nSaturday 23rd July
URL:https://timing.lifecycle.co.bw/event/the-spar-community-challenge-race-4/
LOCATION:GRIP Runner Shop\, Shop 36\, Sebele Mall (Next to Rhapsody's and Ultimate Cycle Base)\, Gaborone\, Botswana
CATEGORIES:Individual,Race,SPAR Community Challenge
ATTACH;FMTTYPE=image/jpeg:https://timing.lifecycle.co.bw/wp-content/uploads/2022/04/Spar-Charity-Challenge-Race-Series-with-Price.jpg
ORGANIZER;CN="Lifecycle Events & Timing Pty Ltd":MAILTO:timing@lifecycle.co.bw
END:VEVENT
BEGIN:VEVENT
DTSTART;VALUE=DATE:20220702
DTEND;VALUE=DATE:20220703
DTSTAMP:20260424T104720
CREATED:20220622T211756Z
LAST-MODIFIED:20220629T082807Z
UID:10000151-1656720000-1656806399@timing.lifecycle.co.bw
SUMMARY:Gaborone Striders "The Club 60km Run"
DESCRIPTION:  \n \nSaturday 2nd July\, 2022
URL:https://timing.lifecycle.co.bw/event/gaborone-striders-the-club-60km-run/
LOCATION:Waterstone (next to Touchdown)\, Botswana
ORGANIZER;CN="Gaborone Striders":MAILTO:10x10@gaboronestriders.run
END:VEVENT
BEGIN:VEVENT
DTSTART;VALUE=DATE:20220702
DTEND;VALUE=DATE:20220703
DTSTAMP:20260424T104720
CREATED:20220511T064715Z
LAST-MODIFIED:20220512T200844Z
UID:10000149-1656720000-1656806399@timing.lifecycle.co.bw
SUMMARY:Chobe Half Marathon
DESCRIPTION:
URL:https://timing.lifecycle.co.bw/event/chobe-half-marathon/
LOCATION:Kasane\, Kasane\, Chobe District\, Botswana
CATEGORIES:Marathon,Race
ATTACH;FMTTYPE=image/jpeg:https://timing.lifecycle.co.bw/wp-content/uploads/2022/05/WhatsApp-Image-2022-05-11-at-12.03.56-AM.jpeg
ORGANIZER;CN="Lifecycle Events & Timing Pty Ltd":MAILTO:timing@lifecycle.co.bw
END:VEVENT
BEGIN:VEVENT
DTSTART;VALUE=DATE:20220626
DTEND;VALUE=DATE:20220627
DTSTAMP:20260424T104720
CREATED:20220512T141100Z
LAST-MODIFIED:20220625T082119Z
UID:10000150-1656201600-1656287999@timing.lifecycle.co.bw
SUMMARY:Lucara Karowe Diamond Mine GM Cycle Challenge
DESCRIPTION:Sunday 26th June\, 2022
URL:https://timing.lifecycle.co.bw/event/lucara-gm-cycle-challenge/
LOCATION:Botswana
END:VEVENT
BEGIN:VEVENT
DTSTART;VALUE=DATE:20220618
DTEND;VALUE=DATE:20220619
DTSTAMP:20260424T104720
CREATED:20220502T111524Z
LAST-MODIFIED:20221011T205712Z
UID:10000140-1655510400-1655596799@timing.lifecycle.co.bw
SUMMARY:The SPAR Community Challenge - Race 3\, Ruretse (O'Neill Property)
DESCRIPTION:Saturday 12th November\, 2022
URL:https://timing.lifecycle.co.bw/event/the-spar-community-challenge-race-3/
LOCATION:CBD\, 3 Chiefs Monument\, Gaborone\, Botswana
CATEGORIES:Individual,Race,SPAR Community Challenge
ATTACH;FMTTYPE=image/jpeg:https://timing.lifecycle.co.bw/wp-content/uploads/2022/04/Spar-Charity-Challenge-Race-Series-with-Price.jpg
ORGANIZER;CN="Lifecycle Events & Timing Pty Ltd":MAILTO:timing@lifecycle.co.bw
END:VEVENT
BEGIN:VEVENT
DTSTART;VALUE=DATE:20220528
DTEND;VALUE=DATE:20220530
DTSTAMP:20260424T104720
CREATED:20220418T173404Z
LAST-MODIFIED:20220511T091135Z
UID:10000136-1653696000-1653868799@timing.lifecycle.co.bw
SUMMARY:Paratus Bike Shredders Challenge
DESCRIPTION:
URL:https://timing.lifecycle.co.bw/event/paratus-bike-shredders-challenge/
LOCATION:Gaborone\, Gaborone\, Botswana
CATEGORIES:Individual
ATTACH;FMTTYPE=image/jpeg:https://timing.lifecycle.co.bw/wp-content/uploads/2022/04/Bike-Shredders-Challenge-2022.jpg
ORGANIZER;CN="Lifecycle Events & Timing Pty Ltd":MAILTO:timing@lifecycle.co.bw
GEO:-24.653257;25.906792
END:VEVENT
BEGIN:VEVENT
DTSTART;VALUE=DATE:20220507
DTEND;VALUE=DATE:20220508
DTSTAMP:20260424T104720
CREATED:20220502T110038Z
LAST-MODIFIED:20220511T071620Z
UID:10000138-1651881600-1651967999@timing.lifecycle.co.bw
SUMMARY:The SPAR Community Challenge - Race 2
DESCRIPTION:Saturday 7th May
URL:https://timing.lifecycle.co.bw/event/the-spar-community-challenge-race-2/
LOCATION:CBD\, 3 Chiefs Monument\, Gaborone\, Botswana
CATEGORIES:Individual,Race,SPAR Community Challenge
ORGANIZER;CN="Lifecycle Events & Timing Pty Ltd":MAILTO:timing@lifecycle.co.bw
END:VEVENT
BEGIN:VEVENT
DTSTART;VALUE=DATE:20220430
DTEND;VALUE=DATE:20220502
DTSTAMP:20260424T104720
CREATED:20220418T172500Z
LAST-MODIFIED:20220511T071620Z
UID:10000134-1651276800-1651449599@timing.lifecycle.co.bw
SUMMARY:The SPAR Community Challenge - Race 1
DESCRIPTION:Saturday 30th April\, Airport Junction
URL:https://timing.lifecycle.co.bw/event/the-spar-community-challenge-race-1/
LOCATION:CBD\, 3 Chiefs Monument\, Gaborone\, Botswana
CATEGORIES:Individual,SPAR Community Challenge
ORGANIZER;CN="Lifecycle Events & Timing Pty Ltd":MAILTO:timing@lifecycle.co.bw
END:VEVENT
BEGIN:VEVENT
DTSTART;VALUE=DATE:20220423
DTEND;VALUE=DATE:20220425
DTSTAMP:20260424T104720
CREATED:20220204T183915Z
LAST-MODIFIED:20220511T071620Z
UID:10000132-1650672000-1650844799@timing.lifecycle.co.bw
SUMMARY:Summer Kids Marathon
DESCRIPTION:
URL:https://timing.lifecycle.co.bw/event/summer-kids-marathon/
LOCATION:Gaborone\, Gaborone\, Botswana
CATEGORIES:Individual,Race
ORGANIZER;CN="Lifecycle Events & Timing Pty Ltd":MAILTO:timing@lifecycle.co.bw
GEO:-24.653257;25.906792
END:VEVENT
END:VCALENDAR