BEGIN:VCALENDAR
VERSION:2.0
PRODID:-//Lifecycle - ECPv6.15.0.1//NONSGML v1.0//EN
CALSCALE:GREGORIAN
METHOD:PUBLISH
X-WR-CALNAME:Lifecycle
X-ORIGINAL-URL:https://timing.lifecycle.co.bw
X-WR-CALDESC:Events for Lifecycle
REFRESH-INTERVAL;VALUE=DURATION:PT1H
X-Robots-Tag:noindex
X-PUBLISHED-TTL:PT1H
BEGIN:VTIMEZONE
TZID:Africa/Gaborone
BEGIN:STANDARD
TZOFFSETFROM:+0200
TZOFFSETTO:+0200
TZNAME:CAT
DTSTART:20240101T000000
END:STANDARD
END:VTIMEZONE
BEGIN:VEVENT
DTSTART;TZID=Africa/Gaborone:20241103T060000
DTEND;TZID=Africa/Gaborone:20241103T130000
DTSTAMP:20260424T103728
CREATED:20241025T141613Z
LAST-MODIFIED:20241025T141613Z
UID:10000104-1730613600-1730638800@timing.lifecycle.co.bw
SUMMARY:Tsela Riders Club Race November 2024
DESCRIPTION:Sunday 3rd November\, 2024
URL:https://timing.lifecycle.co.bw/event/tsela-riders-club-race-november-2024/
LOCATION:Mogobane (turn to OTSE Police College)\, Police College\, Otse\, Botswana\, 0000\, Botswana
ORGANIZER;CN="Tsela Riders":MAILTO:tselariders@gmail.com
END:VEVENT
BEGIN:VEVENT
DTSTART;TZID=Africa/Gaborone:20241109T070000
DTEND;TZID=Africa/Gaborone:20241109T110000
DTSTAMP:20260424T103728
CREATED:20241014T142822Z
LAST-MODIFIED:20241017T135609Z
UID:10000102-1731135600-1731150000@timing.lifecycle.co.bw
SUMMARY:Paratus Bike Shredders Challenge - Race 4 (Kgale/Mokolodi 1)
DESCRIPTION:SATURDAY 9th NOVEMBER 2024
URL:https://timing.lifecycle.co.bw/event/paratus-bike-shredders-challenge-race-4-kgale-mokolodi-1/
LOCATION:Mokolodi 1\, A1 Highway\, Mmokolodi 1\, Botswana
ORGANIZER;CN="Lifecycle Bicycle Coaching & Tuition":MAILTO:gobona21@yahoo.co.uk
END:VEVENT
BEGIN:VEVENT
DTSTART;VALUE=DATE:20241128
DTEND;VALUE=DATE:20241208
DTSTAMP:20260424T103728
CREATED:20240911T203718Z
LAST-MODIFIED:20241107T034033Z
UID:10000098-1732752000-1733615999@timing.lifecycle.co.bw
SUMMARY:Gaborone Striders 10 x 10 Challenge 2024
DESCRIPTION:  \n \n28th November to 7th December 2024 \n  \n  \n 
URL:https://timing.lifecycle.co.bw/event/gaborone-striders-10-by-10-challenge-2024/
LOCATION:Gaborone\, Gaborone\, Botswana
ORGANIZER;CN="Gaborone Striders":MAILTO:10x10@gaboronestriders.run
GEO:-24.653257;25.906792
END:VEVENT
BEGIN:VEVENT
DTSTART;TZID=Africa/Gaborone:20241231T053000
DTEND;TZID=Africa/Gaborone:20241231T170000
DTSTAMP:20260424T103728
CREATED:20241022T035538Z
LAST-MODIFIED:20241230T201226Z
UID:10000103-1735623000-1735664400@timing.lifecycle.co.bw
SUMMARY:31on31 - 31 Reasons to be Thankful
DESCRIPTION:31st December\, 2024
URL:https://timing.lifecycle.co.bw/event/31on31-31-reasons-to-be-thankful-2/
LOCATION:SmartSys (Setlhoa\, Gaborone)\, Setlhoa\, Botswana
ORGANIZER;CN="Lifecycle Events & Timing Pty Ltd":MAILTO:timing@lifecycle.co.bw
END:VEVENT
BEGIN:VEVENT
DTSTART;TZID=Africa/Gaborone:20250216T060000
DTEND;TZID=Africa/Gaborone:20250216T140000
DTSTAMP:20260424T103728
CREATED:20250127T200836Z
LAST-MODIFIED:20250207T115736Z
UID:10000107-1739685600-1739714400@timing.lifecycle.co.bw
SUMMARY:Tsela Riders Club Race Q1 2025
DESCRIPTION:16th February\, 2025
URL:https://timing.lifecycle.co.bw/event/tsela-riders-club-race-q1-2025/
LOCATION:Mogobane (turn to OTSE Police College)\, Police College\, Otse\, Botswana\, 0000\, Botswana
ORGANIZER;CN="Tsela Riders":MAILTO:tselariders@gmail.com
END:VEVENT
BEGIN:VEVENT
DTSTART;TZID=Africa/Gaborone:20250222T060000
DTEND;TZID=Africa/Gaborone:20250223T170000
DTSTAMP:20260424T103728
CREATED:20241210T195530Z
LAST-MODIFIED:20250218T141333Z
UID:10000105-1740204000-1740330000@timing.lifecycle.co.bw
SUMMARY:Senkgamorodi Cycle Classic 2025 (2 day road stage race\, Sunday Corporate 90km\, Sunday 90km Open & U18\, Sunday Youth 60km\, MTB (1 day) and Hamba (1 day))
DESCRIPTION:  \n \nSaturday 22nd and Sunday 23rd February\, 2025
URL:https://timing.lifecycle.co.bw/event/senkgamorodi-cycle-classic-2025-2-day-road-stage-race-mtb-1-day-and-hamba-1-day/
LOCATION:Bobonong\, Senkgamorodi Agro Farm\, Bobonong\, Botswana
ORGANIZER;CN="Senkgamorodi Agro Farm":MAILTO:gobona21@yahoo.co.uk
END:VEVENT
BEGIN:VEVENT
DTSTART;TZID=Africa/Gaborone:20250302T053000
DTEND;TZID=Africa/Gaborone:20250302T140000
DTSTAMP:20260424T103728
CREATED:20250115T194741Z
LAST-MODIFIED:20260129T041540Z
UID:10000106-1740893400-1740924000@timing.lifecycle.co.bw
SUMMARY:BPC CEO Cycling Challenge
DESCRIPTION:  \n \nSunday 2nd March\, 2025 (Otse-Kanye) \n  \n 
URL:https://timing.lifecycle.co.bw/event/bpc-ceo-cycling-challenge/
LOCATION:Mogobane (turn to OTSE Police College)\, Police College\, Otse\, Botswana\, 0000\, Botswana
ORGANIZER;CN="Lifecycle Events & Timing Pty Ltd":MAILTO:timing@lifecycle.co.bw
END:VEVENT
BEGIN:VEVENT
DTSTART;TZID=Africa/Gaborone:20250316T053000
DTEND;TZID=Africa/Gaborone:20250316T140000
DTSTAMP:20260424T103728
CREATED:20250204T121128Z
LAST-MODIFIED:20250314T103652Z
UID:10000168-1742103000-1742133600@timing.lifecycle.co.bw
SUMMARY:Gabs 1/2 Marathon 2025
DESCRIPTION:Sunday 16th March\, 2025\, Airport Junction
URL:https://timing.lifecycle.co.bw/event/gabs-1-2-marathon-2025/
LOCATION:Airport Junction (Opposite KFC)\, Airport Junction\, Gaborone\, Botswana
ORGANIZER;CN="Sports Entertainment":MAILTO:sportsentertainmentbw@gmail.com
END:VEVENT
BEGIN:VEVENT
DTSTART;TZID=Africa/Gaborone:20250418T053000
DTEND;TZID=Africa/Gaborone:20250418T053000
DTSTAMP:20260424T103728
CREATED:20250325T230833Z
LAST-MODIFIED:20250415T084053Z
UID:10000170-1744954200-1744954200@timing.lifecycle.co.bw
SUMMARY:Zone VI Water Utilities Games Fun Run
DESCRIPTION:Friday 18th April\, 2025
URL:https://timing.lifecycle.co.bw/event/zone-iv-water-utilities-games-fun-run/
LOCATION:Royal Aria Stadium (Tlokweng)\, Royal Aria Stadium\, Tlokweng\, Botswana
END:VEVENT
BEGIN:VEVENT
DTSTART;TZID=Africa/Gaborone:20250427T060000
DTEND;TZID=Africa/Gaborone:20250427T130000
DTSTAMP:20260424T103728
CREATED:20241009T211713Z
LAST-MODIFIED:20250422T202023Z
UID:10000101-1745733600-1745758800@timing.lifecycle.co.bw
SUMMARY:Jwaneng GM's Annual Charity Cycle Challenge
DESCRIPTION:27th April\, 2025
URL:https://timing.lifecycle.co.bw/event/jwaneng-gms-annual-charity-cycle-challenge-2024/
LOCATION:Jwaneng\, Debswana Club\, Tholo Ave\, Jwaneng\, Jwaneng\, Botswana\, 0000\, Botswana
ORGANIZER;CN="Lifecycle Events & Timing Pty Ltd":MAILTO:timing@lifecycle.co.bw
END:VEVENT
BEGIN:VEVENT
DTSTART;TZID=Africa/Gaborone:20250525T070000
DTEND;TZID=Africa/Gaborone:20250525T170000
DTSTAMP:20260424T103728
CREATED:20250318T143042Z
LAST-MODIFIED:20250428T132436Z
UID:10000169-1748156400-1748192400@timing.lifecycle.co.bw
SUMMARY:Mokolodi Scorpion Mountain Bike Challenge
DESCRIPTION:Sunday 25th May\, 2025
URL:https://timing.lifecycle.co.bw/event/mokolodi-scorpion-mountain-bike-challenge/
LOCATION:Mokolodi Nature Reserve\, Mokolodi Nature Reserve\, Mokolodi 2\, Botswana
ORGANIZER;CN="Active Africa":MAILTO:khaya@activeafricagroup.com
END:VEVENT
BEGIN:VEVENT
DTSTART;TZID=Africa/Gaborone:20250621T080000
DTEND;TZID=Africa/Gaborone:20250621T170000
DTSTAMP:20260424T103728
CREATED:20250514T190731Z
LAST-MODIFIED:20250515T133104Z
UID:10000172-1750492800-1750525200@timing.lifecycle.co.bw
SUMMARY:Bike Shredders Challenge - Race 1 (Mokolodi 1 Police Road Stop)
DESCRIPTION:Saturday 21st June @ 8am
URL:https://timing.lifecycle.co.bw/event/bike-shredders-challenge-race-1-mokolodi-1-police-road-stop/
LOCATION:Mokolodi 1\, A1 Highway\, Mmokolodi 1\, Botswana
ORGANIZER;CN="Lifecycle Events & Timing Pty Ltd":MAILTO:timing@lifecycle.co.bw
END:VEVENT
BEGIN:VEVENT
DTSTART;TZID=Africa/Gaborone:20250706T080000
DTEND;TZID=Africa/Gaborone:20250706T170000
DTSTAMP:20260424T103728
CREATED:20250627T002651Z
LAST-MODIFIED:20250702T162840Z
UID:10000174-1751788800-1751821200@timing.lifecycle.co.bw
SUMMARY:2025 National MTB Championships
DESCRIPTION:Sunday 6th July\, 2025 (7am)
URL:https://timing.lifecycle.co.bw/event/2025-national-mtb-championships/
LOCATION:Kgale Hill\, Kgale Hill\, Gaborone\, Botswana
ORGANIZER;CN="Botswana Cycling Association":MAILTO:brightideasbw@gmail.com
END:VEVENT
BEGIN:VEVENT
DTSTART;TZID=Africa/Gaborone:20250726T053000
DTEND;TZID=Africa/Gaborone:20250726T170000
DTSTAMP:20260424T103728
CREATED:20250427T081656Z
LAST-MODIFIED:20250721T172752Z
UID:10000171-1753507800-1753549200@timing.lifecycle.co.bw
SUMMARY:Orange Phikwe National Marathon 2025
DESCRIPTION:Saturday 26th July\, 2025
URL:https://timing.lifecycle.co.bw/event/orange-phikwe-national-marathon-2025/
LOCATION:Selibe Phikwe Stadium\, 2VG2+WMM\, Selibe Phikwe\, Botswana\, 0000\, Botswana
ORGANIZER;CN="Event Registration":MAILTO:warrenrigelsford@live.com
END:VEVENT
BEGIN:VEVENT
DTSTART;TZID=Africa/Gaborone:20250817T080000
DTEND;TZID=Africa/Gaborone:20250817T170000
DTSTAMP:20260424T103728
CREATED:20250801T195336Z
LAST-MODIFIED:20250801T200156Z
UID:10000175-1755417600-1755450000@timing.lifecycle.co.bw
SUMMARY:2025 BCA Road Race National Championships
DESCRIPTION:Sunday 17th August\, 2025
URL:https://timing.lifecycle.co.bw/event/2025-bca-road-race-national-championships/
LOCATION:St Joseph’s Underpass\, St Joseph's Underpass\, Gaborone\, Gaborone\, 0000\, Botswana
ORGANIZER;CN="Botswana Cycling Association":MAILTO:brightideasbw@gmail.com
END:VEVENT
BEGIN:VEVENT
DTSTART;TZID=Africa/Gaborone:20250824T053000
DTEND;TZID=Africa/Gaborone:20250824T140000
DTSTAMP:20260424T103728
CREATED:20250609T191943Z
LAST-MODIFIED:20250819T195118Z
UID:10000173-1756013400-1756044000@timing.lifecycle.co.bw
SUMMARY:Botswana Life Classic Run National Half Marathon 2025
DESCRIPTION:  \nSunday 24th August\, 2025
URL:https://timing.lifecycle.co.bw/event/botswana-life-classic-run-national-half-marathon-2025/
LOCATION:Botswana Life\, Fairgrounds Office Park\, Gaborone\, Botswana
ORGANIZER;CN="Botswana Life":MAILTO:marketing@blil.co.bw
END:VEVENT
BEGIN:VEVENT
DTSTART;TZID=Africa/Gaborone:20250920T073000
DTEND;TZID=Africa/Gaborone:20250920T130000
DTSTAMP:20260424T103728
CREATED:20250820T183456Z
LAST-MODIFIED:20250820T183456Z
UID:10000176-1758353400-1758373200@timing.lifecycle.co.bw
SUMMARY:Bike Shredders Challenge - Race 2 (Melo Park\, Mokatse Village (past Oodi))
DESCRIPTION:Saturday 20th September\, 2025 (Melo Park\, Mokatse)
URL:https://timing.lifecycle.co.bw/event/bike-shredders-challenge-race-2-melo-park-mokatse-village-past-oodi/
LOCATION:Melo Adventure Park (Mokatsee – Modipane\, 8km from Oodi towards Modipane)\, Oodi to Mokatse Road\, Mokatse\, Gaborone\, Botswana
ORGANIZER;CN="Lifecycle Events & Timing Pty Ltd":MAILTO:timing@lifecycle.co.bw
END:VEVENT
BEGIN:VEVENT
DTSTART;TZID=Africa/Gaborone:20251018T063000
DTEND;TZID=Africa/Gaborone:20251018T170000
DTSTAMP:20260424T103728
CREATED:20250901T122209Z
LAST-MODIFIED:20251011T061318Z
UID:10000177-1760769000-1760806800@timing.lifecycle.co.bw
SUMMARY:MMG Khoemacau - 2025 Lake Ngami Cycle Classic
DESCRIPTION:Saturday 18th October\, 2025
URL:https://timing.lifecycle.co.bw/event/mmg-khoemacau-2025-gms-lake-ngami-cycle-classic/
LOCATION:Toteng Village (North West District) – 70km south of Maun on A3 towards Gantsi\, A3 Highway (Maun to Gantsi)\, Toteng\, Botswana
ORGANIZER;CN="MMG Khoemacau":MAILTO:tobokani.mosetlha@mmg.com
END:VEVENT
BEGIN:VEVENT
DTSTART;TZID=Africa/Gaborone:20251127T000000
DTEND;TZID=Africa/Gaborone:20251206T235900
DTSTAMP:20260424T103728
CREATED:20250908T191703Z
LAST-MODIFIED:20251109T220528Z
UID:10000178-1764201600-1765065540@timing.lifecycle.co.bw
SUMMARY:Gaborone Striders 10 * 10 Challenge 2025
DESCRIPTION:Challenge Dates  \n27th Nov – 06 Dec 2025
URL:https://timing.lifecycle.co.bw/event/gaborone-striders-10-10-challenge-2025/
LOCATION:Gaborone\, Gaborone\, Botswana
ORGANIZER;CN="Gaborone Striders":MAILTO:10x10@gaboronestriders.run
GEO:-24.653257;25.906792
END:VEVENT
BEGIN:VEVENT
DTSTART;TZID=Africa/Gaborone:20251129T073000
DTEND;TZID=Africa/Gaborone:20251129T120000
DTSTAMP:20260424T103728
CREATED:20251028T222153Z
LAST-MODIFIED:20251028T222153Z
UID:10000180-1764401400-1764417600@timing.lifecycle.co.bw
SUMMARY:Bike Shredders Challenge - Race 3 (Madison Square\, Mokolodi 1)
DESCRIPTION:Saturday 29th November\, 2025
URL:https://timing.lifecycle.co.bw/event/bike-shredders-challenge-race-3-madison-square-mokolodi-1/
LOCATION:Mokolodi 1\, A1 Highway\, Mmokolodi 1\, Botswana
ORGANIZER;CN="Lifecycle Events & Timing Pty Ltd":MAILTO:timing@lifecycle.co.bw
END:VEVENT
BEGIN:VEVENT
DTSTART;TZID=Africa/Gaborone:20251231T050000
DTEND;TZID=Africa/Gaborone:20251231T170000
DTSTAMP:20260424T103728
CREATED:20251023T091941Z
LAST-MODIFIED:20251228T111326Z
UID:10000179-1767157200-1767200400@timing.lifecycle.co.bw
SUMMARY:31on31 - 31 Reasons to be Thankful - 2025
DESCRIPTION:31st December\, 2025
URL:https://timing.lifecycle.co.bw/event/31on31-31-reasons-to-be-thankful-2025/
LOCATION:SmartSys (Setlhoa\, Gaborone)\, Setlhoa\, Botswana
ORGANIZER;CN="Lifecycle Events & Timing Pty Ltd":MAILTO:timing@lifecycle.co.bw
END:VEVENT
BEGIN:VEVENT
DTSTART;TZID=Africa/Gaborone:20260221T060000
DTEND;TZID=Africa/Gaborone:20260222T170000
DTSTAMP:20260424T103728
CREATED:20251222T205156Z
LAST-MODIFIED:20260215T080658Z
UID:10000181-1771653600-1771779600@timing.lifecycle.co.bw
SUMMARY:Senkgamorodi Cycle Classic 2026
DESCRIPTION:Saturday 21st and Sunday 22nd February\, 2026
URL:https://timing.lifecycle.co.bw/event/senkgamorodi-cycle-classic-2026/
LOCATION:Bobonong\, Senkgamorodi Agro Farm\, Bobonong\, Botswana
ORGANIZER;CN="Lifecycle Events & Timing Pty Ltd":MAILTO:timing@lifecycle.co.bw
END:VEVENT
BEGIN:VEVENT
DTSTART;TZID=Africa/Gaborone:20260510T060000
DTEND;TZID=Africa/Gaborone:20260510T140000
DTSTAMP:20260424T103728
CREATED:20260129T042928Z
LAST-MODIFIED:20260216T071414Z
UID:10000182-1778392800-1778421600@timing.lifecycle.co.bw
SUMMARY:BPC CEO Cycling Challenge 2026
DESCRIPTION:  \n \nSunday 10th May\, 2026
URL:https://timing.lifecycle.co.bw/event/bpc-ceo-cycling-challenge-2026/
LOCATION:Mogobane (turn to OTSE Police College)\, Police College\, Otse\, Botswana\, 0000\, Botswana
ORGANIZER;CN="Lifecycle Events & Timing Pty Ltd":MAILTO:timing@lifecycle.co.bw
END:VEVENT
BEGIN:VEVENT
DTSTART;TZID=Africa/Gaborone:20260712T053000
DTEND;TZID=Africa/Gaborone:20260712T170000
DTSTAMP:20260424T103728
CREATED:20260407T200916Z
LAST-MODIFIED:20260409T075154Z
UID:10000184-1783834200-1783875600@timing.lifecycle.co.bw
SUMMARY:Botswana Life Classic Run National Half Marathon 2026
DESCRIPTION:Sunday 12th July
URL:https://timing.lifecycle.co.bw/event/botswana-life-classic-run-national-half-marathon-2026/
LOCATION:Botswana Life\, Fairgrounds Office Park\, Gaborone\, Botswana
ORGANIZER;CN="Botswana Life":MAILTO:marketing@blil.co.bw
END:VEVENT
BEGIN:VEVENT
DTSTART;TZID=Africa/Gaborone:20260801T053000
DTEND;TZID=Africa/Gaborone:20260801T170000
DTSTAMP:20260424T103728
CREATED:20260308T163913Z
LAST-MODIFIED:20260311T151024Z
UID:10000183-1785562200-1785603600@timing.lifecycle.co.bw
SUMMARY:Orange Phikwe National Marathon 2026
DESCRIPTION:1st August\, 2026
URL:https://timing.lifecycle.co.bw/event/orange-phikwe-national-marathon-2026/
LOCATION:Selibe Phikwe Stadium\, 2VG2+WMM\, Selibe Phikwe\, Botswana\, 0000\, Botswana
ORGANIZER;CN="Lifecycle Events & Timing Pty Ltd":MAILTO:timing@lifecycle.co.bw
END:VEVENT
END:VCALENDAR