BEGIN:VCALENDAR
VERSION:2.0
PRODID:-//Lifecycle - ECPv6.15.0.1//NONSGML v1.0//EN
CALSCALE:GREGORIAN
METHOD:PUBLISH
X-ORIGINAL-URL:https://timing.lifecycle.co.bw
X-WR-CALDESC:Events for Lifecycle
REFRESH-INTERVAL;VALUE=DURATION:PT1H
X-Robots-Tag:noindex
X-PUBLISHED-TTL:PT1H
BEGIN:VTIMEZONE
TZID:Africa/Gaborone
BEGIN:STANDARD
TZOFFSETFROM:+0200
TZOFFSETTO:+0200
TZNAME:CAT
DTSTART:20230101T000000
END:STANDARD
END:VTIMEZONE
BEGIN:VEVENT
DTSTART;TZID=Africa/Gaborone:20230903T073000
DTEND;TZID=Africa/Gaborone:20230903T140000
DTSTAMP:20260424T001408
CREATED:20230705T115437Z
LAST-MODIFIED:20230828T212526Z
UID:10000090-1693726200-1693749600@timing.lifecycle.co.bw
SUMMARY:Time Adventure Challenge 2023
DESCRIPTION:  \nKey Sponsors: Pick n Pay and SPAR \n \n  \n \n  \n  \n 
URL:https://timing.lifecycle.co.bw/event/time-adventure-challenge-2023/
LOCATION:Mokolodi Nature Reserve\, Mokolodi Nature Reserve\, Mokolodi 2\, Botswana
ORGANIZER;CN="Lifecycle Events & Timing Pty Ltd":MAILTO:timing@lifecycle.co.bw
END:VEVENT
BEGIN:VEVENT
DTSTART;TZID=Africa/Gaborone:20230909T063000
DTEND;TZID=Africa/Gaborone:20230909T093000
DTSTAMP:20260424T001408
CREATED:20230129T200640Z
LAST-MODIFIED:20230129T200640Z
UID:10000139-1694241000-1694251800@timing.lifecycle.co.bw
SUMMARY:The SPAR Community Challenge 2023 - Race 8
DESCRIPTION:Saturday 9th September\, CBD “The Fields” Mall
URL:https://timing.lifecycle.co.bw/event/the-spar-community-challenge-2023-race-8/
LOCATION:CBD start & finish at “The Fields Mall” (next to Orange)\, Gaborone\, CBD\, The Fields Mall\, Gaborone\, Botswana
CATEGORIES:Individual,Race,SPAR Community Challenge
ATTACH;FMTTYPE=image/jpeg:https://timing.lifecycle.co.bw/wp-content/uploads/2022/04/Spar-Charity-Challenge-Race-Series-with-Price.jpg
ORGANIZER;CN="Lifecycle Events & Timing Pty Ltd":MAILTO:timing@lifecycle.co.bw
END:VEVENT
BEGIN:VEVENT
DTSTART;TZID=Africa/Gaborone:20230916T073000
DTEND;TZID=Africa/Gaborone:20230916T110000
DTSTAMP:20260424T001408
CREATED:20230601T214808Z
LAST-MODIFIED:20230824T104553Z
UID:10000157-1694849400-1694862000@timing.lifecycle.co.bw
SUMMARY:Paratus Bike Shredders 2023 Challenge Race 3 (Ruretse)
DESCRIPTION:
URL:https://timing.lifecycle.co.bw/event/paratus-bike-shredders-2023-challenge-race-3-ruretse/
LOCATION:Ruretse (O’Neill Property – Past the koppie)\, O'Neill Property\, Ruretse\, Ruretse\, Gaborone\, Botswana
ORGANIZER;CN="Lifecycle Bicycle Coaching & Tuition":MAILTO:gobona21@yahoo.co.uk
END:VEVENT
END:VCALENDAR