BEGIN:VCALENDAR
VERSION:2.0
PRODID:-//Lifecycle - ECPv6.15.0.1//NONSGML v1.0//EN
CALSCALE:GREGORIAN
METHOD:PUBLISH
X-ORIGINAL-URL:https://timing.lifecycle.co.bw
X-WR-CALDESC:Events for Lifecycle
REFRESH-INTERVAL;VALUE=DURATION:PT1H
X-Robots-Tag:noindex
X-PUBLISHED-TTL:PT1H
BEGIN:VTIMEZONE
TZID:Africa/Gaborone
BEGIN:STANDARD
TZOFFSETFROM:+0200
TZOFFSETTO:+0200
TZNAME:CAT
DTSTART:20220101T000000
END:STANDARD
END:VTIMEZONE
BEGIN:VEVENT
DTSTART;VALUE=DATE:20220702
DTEND;VALUE=DATE:20220703
DTSTAMP:20260420T153407
CREATED:20220511T064715Z
LAST-MODIFIED:20220512T200844Z
UID:10000149-1656720000-1656806399@timing.lifecycle.co.bw
SUMMARY:Chobe Half Marathon
DESCRIPTION:
URL:https://timing.lifecycle.co.bw/event/chobe-half-marathon/
LOCATION:Kasane\, Kasane\, Chobe District\, Botswana
CATEGORIES:Marathon,Race
ATTACH;FMTTYPE=image/jpeg:https://timing.lifecycle.co.bw/wp-content/uploads/2022/05/WhatsApp-Image-2022-05-11-at-12.03.56-AM.jpeg
ORGANIZER;CN="Lifecycle Events & Timing Pty Ltd":MAILTO:timing@lifecycle.co.bw
END:VEVENT
END:VCALENDAR