BEGIN:VCALENDAR
VERSION:2.0
PRODID:-//Lifecycle - ECPv6.15.0.1//NONSGML v1.0//EN
CALSCALE:GREGORIAN
METHOD:PUBLISH
X-WR-CALNAME:Lifecycle
X-ORIGINAL-URL:https://timing.lifecycle.co.bw
X-WR-CALDESC:Events for Lifecycle
REFRESH-INTERVAL;VALUE=DURATION:PT1H
X-Robots-Tag:noindex
X-PUBLISHED-TTL:PT1H
BEGIN:VTIMEZONE
TZID:Africa/Gaborone
BEGIN:STANDARD
TZOFFSETFROM:+0200
TZOFFSETTO:+0200
TZNAME:CAT
DTSTART:20250101T000000
END:STANDARD
END:VTIMEZONE
BEGIN:VEVENT
DTSTART;TZID=Africa/Gaborone:20250726T053000
DTEND;TZID=Africa/Gaborone:20250726T170000
DTSTAMP:20260424T101739
CREATED:20250427T081656Z
LAST-MODIFIED:20250721T172752Z
UID:10000171-1753507800-1753549200@timing.lifecycle.co.bw
SUMMARY:Orange Phikwe National Marathon 2025
DESCRIPTION:Saturday 26th July\, 2025
URL:https://timing.lifecycle.co.bw/event/orange-phikwe-national-marathon-2025/
LOCATION:Selibe Phikwe Stadium\, 2VG2+WMM\, Selibe Phikwe\, Botswana\, 0000\, Botswana
ORGANIZER;CN="Event Registration":MAILTO:warrenrigelsford@live.com
END:VEVENT
END:VCALENDAR